BEGIN:VCALENDAR
VERSION:2.0
PRODID:icalendar-ruby
CALSCALE:GREGORIAN
METHOD:PUBLISH
BEGIN:VEVENT
DTSTAMP:20260423T144547Z
UID:44-294940@nluc.org
DTSTART:20261006T173000Z
DTEND:20261006T193000Z
CLASS:PUBLIC
CREATED:20260423T050653
DESCRIPTION:Church friends gathering to practice English language and conve
 rsation.
LAST-MODIFIED:20260423T050653
LOCATION:Lounge
SUMMARY:ELL Conversation Club
URL;VALUE=URI:https://www.nluc.org/events/ell-conversation-club--44/2026-10
 -06
ATTACH;FILENAME=Ell Conversation Group .png;FMTTYPE=image/png:https://dq5pw
 pg1q8ru0.cloudfront.net/2026/01/29/17/58/59/c1d0c952-2211-4661-bd16-2ab109
 c5760e/Ell%20Conversation%20Group%20.png
END:VEVENT
END:VCALENDAR
